BEGIN:VCALENDAR
VERSION:2.0
PRODID:GlueUp
CALSCALE:GREGORIAN
BEGIN:VTIMEZONE
TZID:UTC
BEGIN:STANDARD
DTSTART:19700101T000000
TZOFFSETFROM:+0000
TZOFFSETTO:+0000
TZNAME:UTC
END:STANDARD
END:VTIMEZONE
BEGIN:VEVENT
TZ:+00
ORGANIZER;CN=Melody Wen:MAILTO:mwen@amchamchina.org
UID:42507-1776715042@https://amcham.glueup.cn
DTSTAMP:20260420T195722Z
DTSTART:20240111T053000Z
DTEND:20240111T120000Z
SUMMARY:[Sold Out] 2024年度超A大会暨第二届首席人才官领袖峰会
DESCRIPTION:[Sold Out] 2024年度超A大会暨第二届首席人才官领袖峰会 by AmCham China\n\nJan 11, 2024 (1:30 PM - 8:00 PM)(GMT+8)\n\nFor more information, click here: https://amcham.glueup.cn/my/events/42507
LOCATION:北京金茂万丽酒店 - 北京市东城区王府井大街57号 Beijing - China
BEGIN:VALARM
TRIGGER:-PT48H
REPEAT:4
DURATION:PT30M
ACTION:DISPLAY
END:VALARM
END:VEVENT
END:VCALENDAR