BEGIN:VCALENDAR
VERSION:2.0
PRODID:GlueUp
CALSCALE:GREGORIAN
BEGIN:VTIMEZONE
TZID:UTC
BEGIN:STANDARD
DTSTART:19700101T000000
TZOFFSETFROM:+0000
TZOFFSETTO:+0000
TZNAME:UTC
END:STANDARD
END:VTIMEZONE
BEGIN:VEVENT
TZ:+00
ORGANIZER;CN=Yin Yu:MAILTO:yyu@amchamchina.org
UID:42773-1776721209@https://amcham.glueup.cn
DTSTAMP:20260420T214009Z
DTSTART:20240124T100000Z
DTEND:20240124T120000Z
SUMMARY:SMEs & Entrepreneurs Committee Mixer
DESCRIPTION:SMEs & Entrepreneurs Committee Mixer by AmCham China\n\nJan 24, 2024 (6:00 PM - 8:00 PM)(GMT+8)\n\nFor more information, click here: https://amcham.glueup.cn/my/events/42773
LOCATION:Eudora Station - Fangyuan West Road 6 - Chaoyang District Beijing - China
BEGIN:VALARM
TRIGGER:-PT48H
REPEAT:4
DURATION:PT30M
ACTION:DISPLAY
END:VALARM
END:VEVENT
END:VCALENDAR