BEGIN:VCALENDAR
VERSION:2.0
PRODID:GlueUp
CALSCALE:GREGORIAN
BEGIN:VTIMEZONE
TZID:UTC
BEGIN:STANDARD
DTSTART:19700101T000000
TZOFFSETFROM:+0000
TZOFFSETTO:+0000
TZNAME:UTC
END:STANDARD
END:VTIMEZONE
BEGIN:VEVENT
TZ:+00
ORGANIZER;CN=Melody Li:MAILTO:mli@amchamchina.org
UID:42663-1776715038@https://amcham.glueup.cn
DTSTAMP:20260420T195718Z
DTSTART:20240127T023000Z
DTEND:20240127T080000Z
SUMMARY:Shenyang | Invitation to ''Eisstock Trophy” Curling Competition
DESCRIPTION:Shenyang | Invitation to ''Eisstock Trophy” Curling Competition by AmCham China\n\nJan 27, 2024 (10:30 AM - 4:00 PM)(GMT+8)\n\nFor more information, click here: https://amcham.glueup.cn/my/events/42663
LOCATION:沈阳康莱德酒店 Conrad Shenyang - 沈阳康莱德酒店5楼空中庭院 - Sky Terrace - Level 5 - Conrad Shenyang 沈阳市Shenyang - 辽宁省Liaoning - China
BEGIN:VALARM
TRIGGER:-PT48H
REPEAT:4
DURATION:PT30M
ACTION:DISPLAY
END:VALARM
END:VEVENT
END:VCALENDAR