BEGIN:VCALENDAR
VERSION:2.0
PRODID:GlueUp
CALSCALE:GREGORIAN
BEGIN:VTIMEZONE
TZID:UTC
BEGIN:STANDARD
DTSTART:19700101T000000
TZOFFSETFROM:+0000
TZOFFSETTO:+0000
TZNAME:UTC
END:STANDARD
END:VTIMEZONE
BEGIN:VEVENT
TZ:+00
ORGANIZER;CN=Alice Xin:MAILTO:axin@amchamchina.org
UID:45937-1776640819@https://amcham.glueup.cn
DTSTAMP:20260419T232019Z
DTSTART:20241214T020000Z
DTEND:20241215T120000Z
SUMMARY:[Shenyang, EN & CN] Call for Vendors - 2024 Christmas Market
DESCRIPTION:[Shenyang, EN & CN] Call for Vendors - 2024 Christmas Market by AmCham China\n\nDec 14 & 15, 2024(GMT+8)\n\nFor more information, click here: https://amcham.glueup.cn/my/events/45937
LOCATION:星摩尔沈阳购物广场Star Mall Shenyang Plaza(People Square) - 铁西区北二中路6号No.6 North Erzhong Road - Tiexi District 沈阳市Shenyang - 辽宁省Liaoning - China
BEGIN:VALARM
TRIGGER:-PT48H
REPEAT:4
DURATION:PT30M
ACTION:DISPLAY
END:VALARM
END:VEVENT
END:VCALENDAR