BEGIN:VCALENDAR
VERSION:2.0
PRODID:GlueUp
CALSCALE:GREGORIAN
BEGIN:VTIMEZONE
TZID:UTC
BEGIN:STANDARD
DTSTART:19700101T000000
TZOFFSETFROM:+0000
TZOFFSETTO:+0000
TZNAME:UTC
END:STANDARD
END:VTIMEZONE
BEGIN:VEVENT
TZ:+00
ORGANIZER;CN=Alice Xin:MAILTO:axin@amchamchina.org
UID:42266-1777034363@https://amcham.glueup.cn
DTSTAMP:20260424T123923Z
DTSTART:20231216T020000Z
DTEND:20231216T120000Z
SUMMARY:Shenyang | CALL FOR VENDORS for 2023 Christmas Market
DESCRIPTION:Shenyang | CALL FOR VENDORS for 2023 Christmas Market by AmCham China\n\nDec 16, 2023 (10:00 AM - 8:00 PM)(GMT+8)\n\nFor more information, click here: https://amcham.glueup.cn/my/events/42266
LOCATION:星摩尔沈阳购物广场Star Mall Shenyang Plaza(People Square) - 铁西区北二中路6号No.6 North Erzhong Road - Tiexi District 沈阳市Shenyang - 辽宁省Liaoning - China
BEGIN:VALARM
TRIGGER:-PT48H
REPEAT:4
DURATION:PT30M
ACTION:DISPLAY
END:VALARM
END:VEVENT
END:VCALENDAR