BEGIN:VCALENDAR
VERSION:2.0
PRODID:GlueUp
CALSCALE:GREGORIAN
BEGIN:VTIMEZONE
TZID:UTC
BEGIN:STANDARD
DTSTART:19700101T000000
TZOFFSETFROM:+0000
TZOFFSETTO:+0000
TZNAME:UTC
END:STANDARD
END:VTIMEZONE
BEGIN:VEVENT
TZ:+00
ORGANIZER;CN=Melody Li:MAILTO:mli@amchamchina.org
UID:44871-1776667123@https://amcham.glueup.cn
DTSTAMP:20260420T063843Z
DTSTART:20240830T093000Z
DTEND:20240830T120000Z
SUMMARY:[Shenyang] 2024 Inter-Chamber Summer Mixer
DESCRIPTION:[Shenyang] 2024 Inter-Chamber Summer Mixer by AmCham China\n\nAug 30, 2024 (5:30 PM - 8:00 PM)(GMT+8)\n\nFor more information, click here: https://amcham.glueup.cn/my/events/44871
LOCATION:Shenyang Shangri-La Hotel - 金廊商圈青年大街115号 Shenyang - Liaoning - China
BEGIN:VALARM
TRIGGER:-PT48H
REPEAT:4
DURATION:PT30M
ACTION:DISPLAY
END:VALARM
END:VEVENT
END:VCALENDAR