BEGIN:VCALENDAR
VERSION:2.0
PRODID:GlueUp
CALSCALE:GREGORIAN
BEGIN:VTIMEZONE
TZID:UTC
BEGIN:STANDARD
DTSTART:19700101T000000
TZOFFSETFROM:+0000
TZOFFSETTO:+0000
TZNAME:UTC
END:STANDARD
END:VTIMEZONE
BEGIN:VEVENT
TZ:+00
ORGANIZER;CN=Lucinda Liu:MAILTO:lliu@amchamchina.org
UID:41093-1776746401@https://amcham.glueup.cn
DTSTAMP:20260421T044001Z
DTSTART:20230831T000000Z
DTEND:20230831T040000Z
SUMMARY:[CN/EN] Roundtable Series: Hydrogen and Carbon Neutrality
DESCRIPTION:[CN/EN] Roundtable Series: Hydrogen and Carbon Neutrality by AmCham China\n\nAug 31, 2023 (8:00 AM - 12:00 PM)(GMT+8)\n\nFor more information, click here: https://amcham.glueup.cn/my/events/41093
LOCATION:Enviromental Development Center for Environmental Protection - Beijing - China
BEGIN:VALARM
TRIGGER:-PT48H
REPEAT:4
DURATION:PT30M
ACTION:DISPLAY
END:VALARM
END:VEVENT
END:VCALENDAR