BEGIN:VCALENDAR
VERSION:2.0
PRODID:GlueUp
CALSCALE:GREGORIAN
BEGIN:VTIMEZONE
TZID:UTC
BEGIN:STANDARD
DTSTART:19700101T000000
TZOFFSETFROM:+0000
TZOFFSETTO:+0000
TZNAME:UTC
END:STANDARD
END:VTIMEZONE
BEGIN:VEVENT
TZ:+00
ORGANIZER;CN=Serena Teng:MAILTO:steng@amchamchina.org
UID:42338-1776734439@https://amcham.glueup.cn
DTSTAMP:20260421T012039Z
DTSTART:20231129T030000Z
DTEND:20231129T041500Z
SUMMARY:Roundtable on Global Innovative Practice for Green Supply Chain
DESCRIPTION:Roundtable on Global Innovative Practice for Green Supply Chain by AmCham China\n\nNov 29, 2023 (11:00 AM - 12:15 PM)(GMT+8)\n\nFor more information, click here: https://amcham.glueup.cn/my/events/42338
LOCATION:China International Exhibition Center Shunyi Pavilion - No.88 Yuxiang Rd Tianzhu Region China
BEGIN:VALARM
TRIGGER:-PT48H
REPEAT:4
DURATION:PT30M
ACTION:DISPLAY
END:VALARM
END:VEVENT
END:VCALENDAR