BEGIN:VCALENDAR
VERSION:2.0
PRODID:GlueUp
CALSCALE:GREGORIAN
BEGIN:VTIMEZONE
TZID:UTC
BEGIN:STANDARD
DTSTART:19700101T000000
TZOFFSETFROM:+0000
TZOFFSETTO:+0000
TZNAME:UTC
END:STANDARD
END:VTIMEZONE
BEGIN:VEVENT
TZ:+00
ORGANIZER;CN=Melody Song:MAILTO:msong@amchamchina.org
UID:26922-1776948626@https://amcham.glueup.cn
DTSTAMP:20260423T125026Z
DTSTART:20210430T010000Z
DTEND:20210430T023000Z
SUMMARY:|Rescheduled| Member Townhall with Shenyang U.S. Consul General Abella
DESCRIPTION:|Rescheduled| Member Townhall with Shenyang U.S. Consul General Abella by AmCham China\n\nApril 30, 2021\n9:00 AM - 10:30 AM(GMT+8)\n\nFor more information and to attend the online event, click here:\n\nEvent Website: https://amcham.glueup.cn/my/events/26922\n\nEvent Link: https://zoom.us
LOCATION:https://zoom.us
BEGIN:VALARM
TRIGGER:-PT1H
REPEAT:4
DURATION:PT15M
ACTION:DISPLAY
END:VALARM
END:VEVENT
END:VCALENDAR