BEGIN:VCALENDAR
VERSION:2.0
PRODID:GlueUp
CALSCALE:GREGORIAN
BEGIN:VTIMEZONE
TZID:UTC
BEGIN:STANDARD
DTSTART:19700101T000000
TZOFFSETFROM:+0000
TZOFFSETTO:+0000
TZNAME:UTC
END:STANDARD
END:VTIMEZONE
BEGIN:VEVENT
TZ:+00
ORGANIZER;CN=Alice Xin:MAILTO:axin@amchamchina.org
UID:40968-1776740973@https://amcham.glueup.cn
DTSTAMP:20260421T030933Z
DTSTART:20230908T013000Z
DTEND:20230908T080000Z
SUMMARY:[Postponed] Yingkou | Exclusive tour to Yingkou Pilot Free Trade Zone
DESCRIPTION:[Postponed] Yingkou | Exclusive tour to Yingkou Pilot Free Trade Zone by AmCham China\n\nSep 8, 2023 (9:30 AM - 4:00 PM)(GMT+8)\n\nFor more information, click here: https://amcham.glueup.cn/my/events/40968
LOCATION:Yingkou Area of China (Liaoning) Pilot Free Trade Zone（营口自贸区） - 辽宁省营口市西市区澄湖西路89号 Yingkou - Liaoning - China
BEGIN:VALARM
TRIGGER:-PT48H
REPEAT:4
DURATION:PT30M
ACTION:DISPLAY
END:VALARM
END:VEVENT
END:VCALENDAR