BEGIN:VCALENDAR
VERSION:2.0
PRODID:GlueUp
CALSCALE:GREGORIAN
BEGIN:VTIMEZONE
TZID:UTC
BEGIN:STANDARD
DTSTART:19700101T000000
TZOFFSETFROM:+0000
TZOFFSETTO:+0000
TZNAME:UTC
END:STANDARD
END:VTIMEZONE
BEGIN:VEVENT
TZ:+00
ORGANIZER;CN=Lina Wang:MAILTO:lwang@amchamchina.org
UID:43449-1776696309@https://amcham.glueup.cn
DTSTAMP:20260420T144509Z
DTSTART:20240416T060000Z
DTEND:20240416T080000Z
SUMMARY:[Postponed] The Silver Economy: Opportunities, Challenges & Strategies
DESCRIPTION:[Postponed] The Silver Economy: Opportunities, Challenges & Strategies by AmCham China\n\nApr 16, 2024 (2:00 PM - 4:00 PM)(GMT+8)\n\nFor more information, click here: https://amcham.glueup.cn/my/events/43449
LOCATION:企业天地1号 - 武汉市江岸区中山大道1505号企业天地1号15层15A 武汉 - 湖北 - China
BEGIN:VALARM
TRIGGER:-PT48H
REPEAT:4
DURATION:PT30M
ACTION:DISPLAY
END:VALARM
END:VEVENT
END:VCALENDAR