BEGIN:VCALENDAR
VERSION:2.0
PRODID:GlueUp
CALSCALE:GREGORIAN
BEGIN:VTIMEZONE
TZID:UTC
BEGIN:STANDARD
DTSTART:19700101T000000
TZOFFSETFROM:+0000
TZOFFSETTO:+0000
TZNAME:UTC
END:STANDARD
END:VTIMEZONE
BEGIN:VEVENT
TZ:+00
ORGANIZER;CN=Melody Li:MAILTO:mli@amchamchina.org
UID:44149-1776684350@https://amcham.glueup.cn
DTSTAMP:20260420T112550Z
DTSTART:20240627T210000Z
DTEND:20240627T220000Z
SUMMARY:[Postponed, EN]  Quiz Night - Call out all the American Movie Fans
DESCRIPTION:[Postponed, EN]  Quiz Night - Call out all the American Movie Fans by AmCham China\n\nJun 28, 2024 (5:00 AM - 6:00 AM)(GMT+8)\n\nFor more information, click here: https://amcham.glueup.cn/my/events/44149
LOCATION:大连布鲁克林西餐酒吧 Brooklyn Restaurant & Bar - 西岗区不老街184号 - No. 184 - Bulao Street - Xigang District 大连Dalian - 辽宁省Liaoning - China
BEGIN:VALARM
TRIGGER:-PT48H
REPEAT:4
DURATION:PT30M
ACTION:DISPLAY
END:VALARM
END:VEVENT
END:VCALENDAR