BEGIN:VCALENDAR
VERSION:2.0
PRODID:GlueUp
CALSCALE:GREGORIAN
BEGIN:VTIMEZONE
TZID:UTC
BEGIN:STANDARD
DTSTART:19700101T000000
TZOFFSETFROM:+0000
TZOFFSETTO:+0000
TZNAME:UTC
END:STANDARD
END:VTIMEZONE
BEGIN:VEVENT
TZ:+00
ORGANIZER;CN=Jennifer Xu:MAILTO:jxu@amchamchina.org
UID:42438-1776714947@https://amcham.glueup.cn
DTSTAMP:20260420T195547Z
DTSTART:20240118T010000Z
DTEND:20240118T080000Z
SUMMARY:Online Training (CN) | Power Apps Low-Code Programming
DESCRIPTION:Online Training (CN) | Power Apps Low-Code Programming by AmCham China\n\nJan 18, 2024 (9:00 AM - 4:00 PM)(GMT+8)\n\nFor more information, click here: https://amcham.glueup.cn/my/events/42438
LOCATION:Online Event
BEGIN:VALARM
TRIGGER:-PT48H
REPEAT:4
DURATION:PT30M
ACTION:DISPLAY
END:VALARM
END:VEVENT
END:VCALENDAR