BEGIN:VCALENDAR
VERSION:2.0
PRODID:GlueUp
CALSCALE:GREGORIAN
BEGIN:VTIMEZONE
TZID:UTC
BEGIN:STANDARD
DTSTART:19700101T000000
TZOFFSETFROM:+0000
TZOFFSETTO:+0000
TZNAME:UTC
END:STANDARD
END:VTIMEZONE
BEGIN:VEVENT
TZ:+00
ORGANIZER;CN=Jennifer Xu:MAILTO:jxu@amchamchina.org
UID:44740-1776661192@https://amcham.glueup.cn
DTSTAMP:20260420T045952Z
DTSTART:20240910T010000Z
DTEND:20240910T080000Z
SUMMARY:[Online Training, CN] Conflict Management and Communication Collaboration
DESCRIPTION:[Online Training, CN] Conflict Management and Communication Collaboration by AmCham China\n\nSep 10, 2024 (9:00 AM - 4:00 PM)(GMT+8)\n\nFor more information, click here: https://amcham.glueup.cn/my/events/44740
LOCATION:Online Event - China
BEGIN:VALARM
TRIGGER:-PT48H
REPEAT:4
DURATION:PT30M
ACTION:DISPLAY
END:VALARM
END:VEVENT
END:VCALENDAR