BEGIN:VCALENDAR
VERSION:2.0
PRODID:GlueUp
CALSCALE:GREGORIAN
BEGIN:VTIMEZONE
TZID:UTC
BEGIN:STANDARD
DTSTART:19700101T000000
TZOFFSETFROM:+0000
TZOFFSETTO:+0000
TZNAME:UTC
END:STANDARD
END:VTIMEZONE
BEGIN:VEVENT
TZ:+00
ORGANIZER;CN=Linda Cheng:MAILTO:lcheng@amchamchina.org
UID:36712-1776634548@https://amcham.glueup.cn
DTSTAMP:20260419T213548Z
DTSTART:20220712T060000Z
DTEND:20220726T080000Z
SUMMARY:Online GA Training (CN): Gov't Documents Writing & Application
DESCRIPTION:Online GA Training (CN): Gov't Documents Writing & Application by AmCham China\n\nJul 12 - 26, 2022(GMT+8)\n\nFor more information, click here: https://amcham.glueup.cn/my/events/36712
LOCATION:
BEGIN:VALARM
TRIGGER:-PT48H
REPEAT:4
DURATION:PT30M
ACTION:DISPLAY
END:VALARM
END:VEVENT
END:VCALENDAR