BEGIN:VCALENDAR
VERSION:2.0
PRODID:GlueUp
CALSCALE:GREGORIAN
BEGIN:VTIMEZONE
TZID:UTC
BEGIN:STANDARD
DTSTART:19700101T000000
TZOFFSETFROM:+0000
TZOFFSETTO:+0000
TZNAME:UTC
END:STANDARD
END:VTIMEZONE
BEGIN:VEVENT
TZ:+00
ORGANIZER;CN=Elliott Johnson:MAILTO:ejohnson@amchamchina.org
UID:45905-1776640758@https://amcham.glueup.cn
DTSTAMP:20260419T231918Z
DTSTART:20241212T010000Z
DTEND:20241212T020000Z
SUMMARY:[Online, EN] Virtual Doorknock Series: Trade and Trump 2.0
DESCRIPTION:[Online, EN] Virtual Doorknock Series: Trade and Trump 2.0 by AmCham China\n\nDec 12, 2024 (9:00 AM - 10:00 AM)(GMT+8)\n\nFor more information, click here: https://amcham.glueup.cn/my/events/45905
LOCATION:Online Event
BEGIN:VALARM
TRIGGER:-PT48H
REPEAT:4
DURATION:PT30M
ACTION:DISPLAY
END:VALARM
END:VEVENT
END:VCALENDAR