BEGIN:VCALENDAR
VERSION:2.0
PRODID:GlueUp
CALSCALE:GREGORIAN
BEGIN:VTIMEZONE
TZID:UTC
BEGIN:STANDARD
DTSTART:19700101T000000
TZOFFSETFROM:+0000
TZOFFSETTO:+0000
TZNAME:UTC
END:STANDARD
END:VTIMEZONE
BEGIN:VEVENT
TZ:+00
ORGANIZER;CN=Jenny Yao:MAILTO:jyao@amchamchina.org
UID:45536-1776647698@https://amcham.glueup.cn
DTSTAMP:20260420T011458Z
DTSTART:20241104T010000Z
DTEND:20241104T020000Z
SUMMARY:[Online, EN] Virtual Doorknock Series: Polls, Pundits and Predictions
DESCRIPTION:[Online, EN] Virtual Doorknock Series: Polls, Pundits and Predictions by AmCham China\n\nNov 4, 2024 (9:00 AM - 10:00 AM)(GMT+8)\n\nFor more information, click here: https://amcham.glueup.cn/my/events/45536
LOCATION:Online Event
BEGIN:VALARM
TRIGGER:-PT48H
REPEAT:4
DURATION:PT30M
ACTION:DISPLAY
END:VALARM
END:VEVENT
END:VCALENDAR