BEGIN:VCALENDAR
VERSION:2.0
PRODID:GlueUp
CALSCALE:GREGORIAN
BEGIN:VTIMEZONE
TZID:UTC
BEGIN:STANDARD
DTSTART:19700101T000000
TZOFFSETFROM:+0000
TZOFFSETTO:+0000
TZNAME:UTC
END:STANDARD
END:VTIMEZONE
BEGIN:VEVENT
TZ:+00
ORGANIZER;CN=Melody Wen:MAILTO:mwen@amchamchina.org
UID:49973-1777116183@https://amcham.glueup.cn
DTSTAMP:20260425T112303Z
DTSTART:20260417T020000Z
DTEND:20260417T034500Z
SUMMARY:[Online, CN&EN] Education in a Changing World: Global Study Trends and Whole Child Development
DESCRIPTION:[Online, CN&EN] Education in a Changing World: Global Study Trends and Whole Child Development by AmCham China\n\nApr 17, 2026 (10:00 AM - 11:45 AM)(GMT+8)\n\nFor more information, click here: https://amcham.glueup.cn/my/events/49973
LOCATION:Online Event
BEGIN:VALARM
TRIGGER:-PT48H
REPEAT:4
DURATION:PT30M
ACTION:DISPLAY
END:VALARM
END:VEVENT
END:VCALENDAR