BEGIN:VCALENDAR
VERSION:2.0
PRODID:GlueUp
CALSCALE:GREGORIAN
BEGIN:VTIMEZONE
TZID:UTC
BEGIN:STANDARD
DTSTART:19700101T000000
TZOFFSETFROM:+0000
TZOFFSETTO:+0000
TZNAME:UTC
END:STANDARD
END:VTIMEZONE
BEGIN:VEVENT
TZ:+00
ORGANIZER;CN=Jennifer Xu:MAILTO:jxu@amchamchina.org
UID:46890-1776765368@https://amcham.glueup.cn
DTSTAMP:20260421T095608Z
DTSTART:20250421T010000Z
DTEND:20250421T080000Z
SUMMARY:[线上培训, 中文] DeepSeek + Power BI：AI驱动下的数据智能分析
DESCRIPTION:中国美国商会发布活动[线上培训, 中文] DeepSeek + Power BI：AI驱动下的数据智能分析\n\n2025年04月21日（09:00 - 16:00）(GMT+8)\n\n更多信息，访问https://amcham.glueup.cn/my/events/46890
LOCATION:线上活动 - 中国
BEGIN:VALARM
TRIGGER:-PT48H
REPEAT:4
DURATION:PT30M
ACTION:DISPLAY
END:VALARM
END:VEVENT
END:VCALENDAR