BEGIN:VCALENDAR
VERSION:2.0
PRODID:GlueUp
CALSCALE:GREGORIAN
BEGIN:VTIMEZONE
TZID:UTC
BEGIN:STANDARD
DTSTART:19700101T000000
TZOFFSETFROM:+0000
TZOFFSETTO:+0000
TZNAME:UTC
END:STANDARD
END:VTIMEZONE
BEGIN:VEVENT
TZ:+00
ORGANIZER;CN=Melody Wen:MAILTO:mwen@amchamchina.org
UID:50089-1776987324@https://amcham.glueup.cn
DTSTAMP:20260423T233524Z
DTSTART:20260430T070000Z
DTEND:20260430T090000Z
SUMMARY:[Online, CN] AI+ Data Analytics Mindset at Workplace
DESCRIPTION:[Online, CN] AI+ Data Analytics Mindset at Workplace by AmCham China\n\nApr 30, 2026 (3:00 PM - 5:00 PM)(GMT+8)\n\nFor more information, click here: https://amcham.glueup.cn/my/events/50089
LOCATION:Online Event
BEGIN:VALARM
TRIGGER:-PT48H
REPEAT:4
DURATION:PT30M
ACTION:DISPLAY
END:VALARM
END:VEVENT
END:VCALENDAR