BEGIN:VCALENDAR
VERSION:2.0
PRODID:GlueUp
CALSCALE:GREGORIAN
BEGIN:VTIMEZONE
TZID:UTC
BEGIN:STANDARD
DTSTART:19700101T000000
TZOFFSETFROM:+0000
TZOFFSETTO:+0000
TZNAME:UTC
END:STANDARD
END:VTIMEZONE
BEGIN:VEVENT
TZ:+00
ORGANIZER;CN=Francisco Arechiga:MAILTO:farechiga@amchamchina.org
UID:33555-1776865059@https://amcham.glueup.cn
DTSTAMP:20260422T133739Z
DTSTART:20210923T010000Z
DTEND:20210924T110000Z
SUMMARY:[ONLINE] 2021 Tech & Innovation Summit
DESCRIPTION:[ONLINE] 2021 Tech & Innovation Summit by AmCham China\n\nSep 23 & 24, 2021(GMT+8)\n\nFor more information and to attend the online event, click here:\n\nEvent Website: https://amcham.glueup.cn/my/events/33555\n\nEvent Link: https://e.vhall.com/v3/special/detail?id=531434316
LOCATION:https://e.vhall.com/v3/special/detail?id=531434316
BEGIN:VALARM
TRIGGER:-PT1H
REPEAT:4
DURATION:PT15M
ACTION:DISPLAY
END:VALARM
END:VEVENT
END:VCALENDAR