BEGIN:VCALENDAR
VERSION:2.0
PRODID:GlueUp
CALSCALE:GREGORIAN
BEGIN:VTIMEZONE
TZID:UTC
BEGIN:STANDARD
DTSTART:19700101T000000
TZOFFSETFROM:+0000
TZOFFSETTO:+0000
TZNAME:UTC
END:STANDARD
END:VTIMEZONE
BEGIN:VEVENT
TZ:+00
ORGANIZER;CN=Ada Yang:MAILTO:ayang@amchamchina.org
UID:41315-1776740186@https://amcham.glueup.cn
DTSTAMP:20260421T025626Z
DTSTART:20230901T100000Z
DTEND:20230901T130000Z
SUMMARY:Offline | Hit a home run, first baseball class!
DESCRIPTION:Offline | Hit a home run, first baseball class! by AmCham China\n\nSep 1, 2023 (6:00 PM - 9:00 PM)(GMT+8)\n\nFor more information, click here: https://amcham.glueup.cn/my/events/41315
LOCATION:Olympic Sports Center - Olympic Sports Center Beijing - China
BEGIN:VALARM
TRIGGER:-PT48H
REPEAT:4
DURATION:PT30M
ACTION:DISPLAY
END:VALARM
END:VEVENT
END:VCALENDAR