BEGIN:VCALENDAR
VERSION:2.0
PRODID:GlueUp
CALSCALE:GREGORIAN
BEGIN:VTIMEZONE
TZID:UTC
BEGIN:STANDARD
DTSTART:19700101T000000
TZOFFSETFROM:+0000
TZOFFSETTO:+0000
TZNAME:UTC
END:STANDARD
END:VTIMEZONE
BEGIN:VEVENT
TZ:+00
ORGANIZER;CN=Jenny Chen:MAILTO:jchen@amchamchina.org
UID:40950-1776753378@https://amcham.glueup.cn
DTSTAMP:20260421T063618Z
DTSTART:20230710T003000Z
DTEND:20230710T013000Z
SUMMARY:Offline (EN) | Policy+ Exclusive Event: View from Washington
DESCRIPTION:Offline (EN) | Policy+ Exclusive Event: View from Washington by AmCham China\n\nJul 10, 2023 (8:30 AM - 9:30 AM)(GMT+8)\n\nFor more information, click here: https://amcham.glueup.cn/my/events/40950
LOCATION:AmCham China - Floor 3 - Gate 4 - Pacific Century Place - 2A Workers' Stadium North Road - Chaoyang District - Beijing - 100027 Beijing - China
BEGIN:VALARM
TRIGGER:-PT48H
REPEAT:4
DURATION:PT30M
ACTION:DISPLAY
END:VALARM
END:VEVENT
END:VCALENDAR