BEGIN:VCALENDAR
VERSION:2.0
PRODID:GlueUp
CALSCALE:GREGORIAN
BEGIN:VTIMEZONE
TZID:UTC
BEGIN:STANDARD
DTSTART:19700101T000000
TZOFFSETFROM:+0000
TZOFFSETTO:+0000
TZNAME:UTC
END:STANDARD
END:VTIMEZONE
BEGIN:VEVENT
TZ:+00
ORGANIZER;CN=AmCham China:MAILTO:amcham@amchamchina.org
UID:41202-1776746598@https://amcham.glueup.cn
DTSTAMP:20260421T044318Z
DTSTART:20230831T060000Z
DTEND:20230831T080000Z
SUMMARY:Offline (EN) | How US-China relations impact the Auto Industry in China
DESCRIPTION:Offline (EN) | How US-China relations impact the Auto Industry in China by AmCham China\n\nAug 31, 2023 (2:00 PM - 4:00 PM)(GMT+8)\n\nFor more information, click here: https://amcham.glueup.cn/my/events/41202
LOCATION:Washington Meeting Room - AmCham China Office - 3F - Gate 4 - Pacific Century Place - 2A Workers' Stadium North Road - Chaoyang District China
BEGIN:VALARM
TRIGGER:-PT48H
REPEAT:4
DURATION:PT30M
ACTION:DISPLAY
END:VALARM
END:VEVENT
END:VCALENDAR