BEGIN:VCALENDAR
VERSION:2.0
PRODID:GlueUp
CALSCALE:GREGORIAN
BEGIN:VTIMEZONE
TZID:UTC
BEGIN:STANDARD
DTSTART:19700101T000000
TZOFFSETFROM:+0000
TZOFFSETTO:+0000
TZNAME:UTC
END:STANDARD
END:VTIMEZONE
BEGIN:VEVENT
TZ:+00
ORGANIZER;CN=Mia Wang:MAILTO:mwang@amchamchina.org
UID:42120-1776734545@https://amcham.glueup.cn
DTSTAMP:20260421T012225Z
DTSTART:20231113T083000Z
DTEND:20231113T103000Z
SUMMARY:Offline (EN) | Exclusive Meeting with Scott Kennedy from CSIS
DESCRIPTION:Offline (EN) | Exclusive Meeting with Scott Kennedy from CSIS by AmCham China\n\nNov 13, 2023 (4:30 PM - 6:30 PM)(GMT+8)\n\nFor more information, click here: https://amcham.glueup.cn/my/events/42120
LOCATION:Conrad Beijing 北京康莱德酒店 - 29 North Dongsanhuan Road Chaoyang Dist. - Beijing - 100020 - China - 北京市朝阳区东三环北路29号 Beijing - China
BEGIN:VALARM
TRIGGER:-PT48H
REPEAT:4
DURATION:PT30M
ACTION:DISPLAY
END:VALARM
END:VEVENT
END:VCALENDAR