BEGIN:VCALENDAR
VERSION:2.0
PRODID:GlueUp
CALSCALE:GREGORIAN
BEGIN:VTIMEZONE
TZID:UTC
BEGIN:STANDARD
DTSTART:19700101T000000
TZOFFSETFROM:+0000
TZOFFSETTO:+0000
TZNAME:UTC
END:STANDARD
END:VTIMEZONE
BEGIN:VEVENT
TZ:+00
ORGANIZER;CN=Melody Wen:MAILTO:mwen@amchamchina.org
UID:41955-1776727964@https://amcham.glueup.cn
DTSTAMP:20260420T233244Z
DTSTART:20231101T001500Z
DTEND:20231101T020000Z
SUMMARY:Offline (CN)【Invite Only】CHRO Exclusive Breakfast Roundtable
DESCRIPTION:Offline (CN)【Invite Only】CHRO Exclusive Breakfast Roundtable by AmCham China\n\nNov 1, 2023 (8:15 AM - 10:00 AM)(GMT+8)\n\nFor more information, click here: https://amcham.glueup.cn/my/events/41955
LOCATION:China World Summit Wing Beijing, 北京国贸大酒店 - 建国门外大街一号院 Bei Jing Shi - China
BEGIN:VALARM
TRIGGER:-PT48H
REPEAT:4
DURATION:PT30M
ACTION:DISPLAY
END:VALARM
END:VEVENT
END:VCALENDAR