BEGIN:VCALENDAR
VERSION:2.0
PRODID:GlueUp
CALSCALE:GREGORIAN
BEGIN:VTIMEZONE
TZID:UTC
BEGIN:STANDARD
DTSTART:19700101T000000
TZOFFSETFROM:+0000
TZOFFSETTO:+0000
TZNAME:UTC
END:STANDARD
END:VTIMEZONE
BEGIN:VEVENT
TZ:+00
ORGANIZER;CN=Lucinda Liu:MAILTO:lliu@amchamchina.org
UID:41649-1776733854@https://amcham.glueup.cn
DTSTAMP:20260421T011054Z
DTSTART:20231014T000000Z
DTEND:20231014T033000Z
SUMMARY:Offline (CN) | ENERGY & CHARITY RUN
DESCRIPTION:中国美国商会发布活动Offline (CN) | ENERGY & CHARITY RUN\n\n2023年10月14日（08:00 - 11:30）(GMT+8)\n\n更多信息，访问https://amcham.glueup.cn/my/events/41649
LOCATION:北京城市绿心森林公园 - 北京
BEGIN:VALARM
TRIGGER:-PT48H
REPEAT:4
DURATION:PT30M
ACTION:DISPLAY
END:VALARM
END:VEVENT
END:VCALENDAR