BEGIN:VCALENDAR
VERSION:2.0
PRODID:GlueUp
CALSCALE:GREGORIAN
BEGIN:VTIMEZONE
TZID:UTC
BEGIN:STANDARD
DTSTART:19700101T000000
TZOFFSETFROM:+0000
TZOFFSETTO:+0000
TZNAME:UTC
END:STANDARD
END:VTIMEZONE
BEGIN:VEVENT
TZ:+00
ORGANIZER;CN=Xi Wang:MAILTO:xwang@amchamchina.org
UID:41904-1776734609@https://amcham.glueup.cn
DTSTAMP:20260421T012329Z
DTSTART:20231025T010000Z
DTEND:20231025T020000Z
SUMMARY:Offline (CN&EN) | AmCham China Healthcare Committee Q3 Breakfast Meeting
DESCRIPTION:Offline (CN&EN) | AmCham China Healthcare Committee Q3 Breakfast Meeting by AmCham China\n\nOct 25, 2023 (9:00 AM - 10:00 AM)(GMT+8)\n\nFor more information, click here: https://amcham.glueup.cn/my/events/41904
LOCATION:中国美国商会 Amcham China - 中国北京市朝阳区工体北路甲2号，盈科中心4号门3层 -  - 3F - Gate 4 - Pacific Century Place - 2A Workers' Stadium North Road - Beijing - PRC - 100027 Beijing - Chaoyang District
BEGIN:VALARM
TRIGGER:-PT48H
REPEAT:4
DURATION:PT30M
ACTION:DISPLAY
END:VALARM
END:VEVENT
END:VCALENDAR