BEGIN:VCALENDAR
VERSION:2.0
PRODID:GlueUp
CALSCALE:GREGORIAN
BEGIN:VTIMEZONE
TZID:UTC
BEGIN:STANDARD
DTSTART:19700101T000000
TZOFFSETFROM:+0000
TZOFFSETTO:+0000
TZNAME:UTC
END:STANDARD
END:VTIMEZONE
BEGIN:VEVENT
TZ:+00
ORGANIZER;CN=AmCham China:MAILTO:amcham@amchamchina.org
UID:42216-1776727632@https://amcham.glueup.cn
DTSTAMP:20260420T232712Z
DTSTART:20231124T015000Z
DTEND:20231124T153000Z
SUMMARY:Offline (CN) | E-mobility report sharing and BJHAD center tour
DESCRIPTION:Offline (CN) | E-mobility report sharing and BJHAD center tour by AmCham China\n\nNov 24, 2023 (9:50 AM - 11:30 PM)(GMT+8)\n\nFor more information, click here: https://amcham.glueup.cn/my/events/42216
LOCATION:Washington Meeting Room - AmCham China Office - 3F - Gate 4 - Pacific Century Place - 2A Workers' Stadium North Road - Chaoyang District China
BEGIN:VALARM
TRIGGER:-PT48H
REPEAT:4
DURATION:PT30M
ACTION:DISPLAY
END:VALARM
END:VEVENT
END:VCALENDAR