BEGIN:VCALENDAR
VERSION:2.0
PRODID:GlueUp
CALSCALE:GREGORIAN
BEGIN:VTIMEZONE
TZID:UTC
BEGIN:STANDARD
DTSTART:19700101T000000
TZOFFSETFROM:+0000
TZOFFSETTO:+0000
TZNAME:UTC
END:STANDARD
END:VTIMEZONE
BEGIN:VEVENT
TZ:+00
ORGANIZER;CN=Dandan Li:MAILTO:dli@amchamchina.org
UID:39782-1776734558@https://amcham.glueup.cn
DTSTAMP:20260421T012238Z
DTSTART:20231027T004500Z
DTEND:20231027T090000Z
SUMMARY:Offline (CN) | Cosmetics and Nutrition Committee Annual Meeting
DESCRIPTION:Offline (CN) | Cosmetics and Nutrition Committee Annual Meeting by AmCham China\n\nOct 27, 2023 (8:45 AM - 5:00 PM)(GMT+8)\n\nFor more information, click here: https://amcham.glueup.cn/my/events/39782
LOCATION:上海静安洲际酒店 - 上海市静安区恒丰路500号 上海 - China
BEGIN:VALARM
TRIGGER:-PT48H
REPEAT:4
DURATION:PT30M
ACTION:DISPLAY
END:VALARM
END:VEVENT
END:VCALENDAR