BEGIN:VCALENDAR
VERSION:2.0
PRODID:GlueUp
CALSCALE:GREGORIAN
BEGIN:VTIMEZONE
TZID:UTC
BEGIN:STANDARD
DTSTART:19700101T000000
TZOFFSETFROM:+0000
TZOFFSETTO:+0000
TZNAME:UTC
END:STANDARD
END:VTIMEZONE
BEGIN:VEVENT
TZ:+00
ORGANIZER;CN=Ada Yang:MAILTO:ayang@amchamchina.org
UID:41685-1776740330@https://amcham.glueup.cn
DTSTAMP:20260421T025850Z
DTSTART:20230928T060000Z
DTEND:20230928T084500Z
SUMMARY:Offline(CN) | Better manage "Wealth" in the current international situation
DESCRIPTION:Offline(CN) | Better manage "Wealth" in the current international situation by 中国美国商会\n\nSep 28, 2023 (14:00 - 16:45)(GMT+8)\n\nFor more information, click here: https://amcham.glueup.cn/my/events/41685
LOCATION:AmCham China Washington Room - Floor 3 - Gate 4 - Pacific Century Place - 2A Workers' Stadium North Road - 北京市朝阳区工体北路甲2号， 盈科中心4号门3层。 Beijing - Chaoyang District - China
BEGIN:VALARM
TRIGGER:-PT48H
REPEAT:4
DURATION:PT30M
ACTION:DISPLAY
END:VALARM
END:VEVENT
END:VCALENDAR