BEGIN:VCALENDAR
VERSION:2.0
PRODID:GlueUp
CALSCALE:GREGORIAN
BEGIN:VTIMEZONE
TZID:UTC
BEGIN:STANDARD
DTSTART:19700101T000000
TZOFFSETFROM:+0000
TZOFFSETTO:+0000
TZNAME:UTC
END:STANDARD
END:VTIMEZONE
BEGIN:VEVENT
TZ:+00
ORGANIZER;CN=Cynthia Zhai:MAILTO:czhai@amchamchina.org
UID:42026-1776727742@https://amcham.glueup.cn
DTSTAMP:20260420T232902Z
DTSTART:20231102T083000Z
DTEND:20231102T090000Z
SUMMARY:Offline | CIFSQ Side Meeting with FDA Senior Leadership
DESCRIPTION:Offline | CIFSQ Side Meeting with FDA Senior Leadership by AmCham China\n\nNov 2, 2023 (4:30 PM - 5:00 PM)(GMT+8)\n\nFor more information, click here: https://amcham.glueup.cn/my/events/42026
LOCATION:5th floor of the JW Marriott Hotel Beijing Central, Room: Board Room the JW Marriott Hotel Beijing Central - 北京市西城区宣外大街18号  北京粤财JW万豪酒店 Beijing - Chaoyang District - China
BEGIN:VALARM
TRIGGER:-PT48H
REPEAT:4
DURATION:PT30M
ACTION:DISPLAY
END:VALARM
END:VEVENT
END:VCALENDAR