BEGIN:VCALENDAR
VERSION:2.0
PRODID:GlueUp
CALSCALE:GREGORIAN
BEGIN:VTIMEZONE
TZID:UTC
BEGIN:STANDARD
DTSTART:19700101T000000
TZOFFSETFROM:+0000
TZOFFSETTO:+0000
TZNAME:UTC
END:STANDARD
END:VTIMEZONE
BEGIN:VEVENT
TZ:+00
ORGANIZER;CN=Maddalena Di Tommaso:MAILTO:m.ditommaso@amchamchina.org
UID:28597-1777139752@https://amcham.glueup.cn
DTSTAMP:20260425T175552Z
DTSTART:20200920T010000Z
DTEND:20200920T080000Z
SUMMARY:Northeast Asia Entrepreneurs Golf Tournament
DESCRIPTION:Northeast Asia Entrepreneurs Golf Tournament by AmCham China\n\nSep 20, 2020 (9:00 AM - 4:00 PM)(GMT+8)\n\nFor more information, click here: https://amcham.glueup.cn/my/events/28597
LOCATION:大连长兴岛高尔夫度假村 Dalian Changxing Island Golf Resort - 瓦房店市长兴岛临港工业区滨海路 -  Binhai Road - Lingang Industrial Zone - Changxing Island - Wafangdian 大连Dalian - 辽宁Liaoning - China
BEGIN:VALARM
TRIGGER:-PT48H
REPEAT:4
DURATION:PT30M
ACTION:DISPLAY
END:VALARM
END:VEVENT
END:VCALENDAR