BEGIN:VCALENDAR
VERSION:2.0
PRODID:GlueUp
CALSCALE:GREGORIAN
BEGIN:VTIMEZONE
TZID:UTC
BEGIN:STANDARD
DTSTART:19700101T000000
TZOFFSETFROM:+0000
TZOFFSETTO:+0000
TZNAME:UTC
END:STANDARD
END:VTIMEZONE
BEGIN:VEVENT
TZ:+00
ORGANIZER;CN=Jojo Shieh:MAILTO:jshieh@amchamchina.org
UID:29599-1777146708@https://amcham.glueup.cn
DTSTAMP:20260425T195148Z
DTSTART:20201210T050000Z
DTEND:20201210T063000Z
SUMMARY:Member Exclusive Fireside Chat with Dr. Zhang Wenhong
DESCRIPTION:Member Exclusive Fireside Chat with Dr. Zhang Wenhong by AmCham China\n\nDec 10, 2020 (1:00 PM - 2:30 PM)(GMT+8)\n\nFor more information, click here: https://amcham.glueup.cn/my/events/29599
LOCATION:China World Hotel, Ballroom B - No. 1 Jianguomen Outer Street Beijing - Chaoyang District - China
BEGIN:VALARM
TRIGGER:-PT48H
REPEAT:4
DURATION:PT30M
ACTION:DISPLAY
END:VALARM
END:VEVENT
END:VCALENDAR