BEGIN:VCALENDAR
VERSION:2.0
PRODID:GlueUp
CALSCALE:GREGORIAN
BEGIN:VTIMEZONE
TZID:UTC
BEGIN:STANDARD
DTSTART:19700101T000000
TZOFFSETFROM:+0000
TZOFFSETTO:+0000
TZNAME:UTC
END:STANDARD
END:VTIMEZONE
BEGIN:VEVENT
TZ:+00
ORGANIZER;CN=Yoyo Wu:MAILTO:ywu@amchamchina.org
UID:46032-1776632799@https://amcham.glueup.cn
DTSTAMP:20260419T210639Z
DTSTART:20250109T100000Z
DTEND:20250109T120000Z
SUMMARY:[Invite Only] Committee Leadership Mixer
DESCRIPTION:[Invite Only] Committee Leadership Mixer by AmCham China\n\nJan 9, 2025 (6:00 PM - 8:00 PM)(GMT+8)\n\nFor more information, click here: https://amcham.glueup.cn/my/events/46032
LOCATION:Lobby Lounge, Conrad Beijing 北京康莱德酒店大堂吧 - 北京市朝阳区东三环北路29号 China
BEGIN:VALARM
TRIGGER:-PT48H
REPEAT:4
DURATION:PT30M
ACTION:DISPLAY
END:VALARM
END:VEVENT
END:VCALENDAR