BEGIN:VCALENDAR
VERSION:2.0
PRODID:GlueUp
CALSCALE:GREGORIAN
BEGIN:VTIMEZONE
TZID:UTC
BEGIN:STANDARD
DTSTART:19700101T000000
TZOFFSETFROM:+0000
TZOFFSETTO:+0000
TZNAME:UTC
END:STANDARD
END:VTIMEZONE
BEGIN:VEVENT
TZ:+00
ORGANIZER;CN=Aisha Huang:MAILTO:ahuang@amchamchina.org
UID:41134-1776747222@https://amcham.glueup.cn
DTSTAMP:20260421T045342Z
DTSTART:20230829T093000Z
DTEND:20230829T120000Z
SUMMARY:[Invite-Only] Chairman’s Circle End-of-Summer Cocktail Party
DESCRIPTION:[Invite-Only] Chairman’s Circle End-of-Summer Cocktail Party by AmCham China\n\nAug 29, 2023 (5:30 PM - 8:00 PM)(GMT+8)\n\nFor more information, click here: https://amcham.glueup.cn/my/events/41134
LOCATION:
BEGIN:VALARM
TRIGGER:-PT48H
REPEAT:4
DURATION:PT30M
ACTION:DISPLAY
END:VALARM
END:VEVENT
END:VCALENDAR