BEGIN:VCALENDAR
VERSION:2.0
PRODID:GlueUp
CALSCALE:GREGORIAN
BEGIN:VTIMEZONE
TZID:UTC
BEGIN:STANDARD
DTSTART:19700101T000000
TZOFFSETFROM:+0000
TZOFFSETTO:+0000
TZNAME:UTC
END:STANDARD
END:VTIMEZONE
BEGIN:VEVENT
TZ:+00
ORGANIZER;CN=Aisha Huang:MAILTO:ahuang@amchamchina.org
UID:42145-1776734610@https://amcham.glueup.cn
DTSTAMP:20260421T012330Z
DTSTART:20231113T063000Z
DTEND:20231113T081500Z
SUMMARY:[Invite-Only] Carbon Management Dialogue with U.S. Department of Energy
DESCRIPTION:[Invite-Only] Carbon Management Dialogue with U.S. Department of Energy by AmCham China\n\nNov 13, 2023 (2:30 PM - 4:15 PM)(GMT+8)\n\nFor more information, click here: https://amcham.glueup.cn/my/events/42145
LOCATION:
BEGIN:VALARM
TRIGGER:-PT48H
REPEAT:4
DURATION:PT30M
ACTION:DISPLAY
END:VALARM
END:VEVENT
END:VCALENDAR