BEGIN:VCALENDAR
VERSION:2.0
PRODID:GlueUp
CALSCALE:GREGORIAN
BEGIN:VTIMEZONE
TZID:UTC
BEGIN:STANDARD
DTSTART:19700101T000000
TZOFFSETFROM:+0000
TZOFFSETTO:+0000
TZNAME:UTC
END:STANDARD
END:VTIMEZONE
BEGIN:VEVENT
TZ:+00
ORGANIZER;CN=Yoyo Wu:MAILTO:ywu@amchamchina.org
UID:43836-1776690051@https://amcham.glueup.cn
DTSTAMP:20260420T130051Z
DTSTART:20240516T080000Z
DTEND:20240516T100000Z
SUMMARY:[Invite Only] 2024 AmCham China White Paper Drafters Mixer
DESCRIPTION:[Invite Only] 2024 AmCham China White Paper Drafters Mixer by AmCham China\n\nMay 16, 2024 (4:00 PM - 6:00 PM)(GMT+8)\n\nFor more information, click here: https://amcham.glueup.cn/my/events/43836
LOCATION:The Corner Bistro, Grand Millennium Beijing 北京千禧大酒店 - No.7 E.3rd Ring Rd Middle - Chaoyang District - Beijing - 北京市朝阳区东三环中路7号 China
BEGIN:VALARM
TRIGGER:-PT48H
REPEAT:4
DURATION:PT30M
ACTION:DISPLAY
END:VALARM
END:VEVENT
END:VCALENDAR