BEGIN:VCALENDAR
VERSION:2.0
PRODID:GlueUp
CALSCALE:GREGORIAN
BEGIN:VTIMEZONE
TZID:UTC
BEGIN:STANDARD
DTSTART:19700101T000000
TZOFFSETFROM:+0000
TZOFFSETTO:+0000
TZNAME:UTC
END:STANDARD
END:VTIMEZONE
BEGIN:VEVENT
TZ:+00
ORGANIZER;CN=AmCham China:MAILTO:amcham@amchamchina.org
UID:42896-1776702655@https://amcham.glueup.cn
DTSTAMP:20260420T163055Z
DTSTART:20240314T054500Z
DTEND:20240314T090000Z
SUMMARY:In-Person Training (CN&EN) | How to be Effective in Global Meetings
DESCRIPTION:In-Person Training (CN&EN) | How to be Effective in Global Meetings by AmCham China\n\nMar 14, 2024 (1:45 PM - 5:00 PM)(GMT+8)\n\nFor more information, click here: https://amcham.glueup.cn/my/events/42896
LOCATION:AmCham China Office (Room TBD) - 3F - East Gate 1 - Pacific Century Place - 2A Workers' Stadium North Road - 北京市朝阳区工体北路甲2号盈科中心东一门3层 Beijing - Chaoyang District - China
BEGIN:VALARM
TRIGGER:-PT48H
REPEAT:4
DURATION:PT30M
ACTION:DISPLAY
END:VALARM
END:VEVENT
END:VCALENDAR