BEGIN:VCALENDAR
VERSION:2.0
PRODID:GlueUp
CALSCALE:GREGORIAN
BEGIN:VTIMEZONE
TZID:UTC
BEGIN:STANDARD
DTSTART:19700101T000000
TZOFFSETFROM:+0000
TZOFFSETTO:+0000
TZNAME:UTC
END:STANDARD
END:VTIMEZONE
BEGIN:VEVENT
TZ:+00
ORGANIZER;CN=Melody Wen:MAILTO:mwen@amchamchina.org
UID:43661-1776689402@https://amcham.glueup.cn
DTSTAMP:20260420T125002Z
DTSTART:20240523T010000Z
DTEND:20240523T080000Z
SUMMARY:[In-Person Training, CN] Charming People with Your Voice (Phase II)
DESCRIPTION:[In-Person Training, CN] Charming People with Your Voice (Phase II) by AmCham China\n\nMay 23, 2024 (9:00 AM - 4:00 PM)(GMT+8)\n\nFor more information, click here: https://amcham.glueup.cn/my/events/43661
LOCATION:AmCham China Office - Floor 3 - Gate 4 - Pacific Century Place - 2A Workers' Stadium North Road - 北京市朝阳区工体北路甲2号， 盈科中心4号门3层。 Beijing - Chaoyang District - China
BEGIN:VALARM
TRIGGER:-PT48H
REPEAT:4
DURATION:PT30M
ACTION:DISPLAY
END:VALARM
END:VEVENT
END:VCALENDAR