BEGIN:VCALENDAR
VERSION:2.0
PRODID:GlueUp
CALSCALE:GREGORIAN
BEGIN:VTIMEZONE
TZID:UTC
BEGIN:STANDARD
DTSTART:19700101T000000
TZOFFSETFROM:+0000
TZOFFSETTO:+0000
TZNAME:UTC
END:STANDARD
END:VTIMEZONE
BEGIN:VEVENT
TZ:+00
ORGANIZER;CN=Melody Wen:MAILTO:mwen@amchamchina.org
UID:43290-1776702563@https://amcham.glueup.cn
DTSTAMP:20260420T162923Z
DTSTART:20240326T010000Z
DTEND:20240328T083000Z
SUMMARY:In-Person Training (CN) | Beijing In-Person Open Class
DESCRIPTION:In-Person Training (CN) | Beijing In-Person Open Class by AmCham China\n\nMar 26 - 28, 2024(GMT+8)\n\nFor more information, click here: https://amcham.glueup.cn/my/events/43290
LOCATION:北京招商局大厦 - 北京市朝阳区建国路118号 Beijing - China
BEGIN:VALARM
TRIGGER:-PT48H
REPEAT:4
DURATION:PT30M
ACTION:DISPLAY
END:VALARM
END:VEVENT
END:VCALENDAR