BEGIN:VCALENDAR
VERSION:2.0
PRODID:GlueUp
CALSCALE:GREGORIAN
BEGIN:VTIMEZONE
TZID:UTC
BEGIN:STANDARD
DTSTART:19700101T000000
TZOFFSETFROM:+0000
TZOFFSETTO:+0000
TZNAME:UTC
END:STANDARD
END:VTIMEZONE
BEGIN:VEVENT
TZ:+00
ORGANIZER;CN=Ivy Ma:MAILTO:ima@amchamchina.org
UID:43517-1776702473@https://amcham.glueup.cn
DTSTAMP:20260420T162753Z
DTSTART:20240425T093000Z
DTEND:20240425T130000Z
SUMMARY:[In-Person] Spring Networking Mixer
DESCRIPTION:[In-Person] Spring Networking Mixer by AmCham China\n\nApr 25, 2024 (5:30 PM - 9:00 PM)(GMT+8)\n\nFor more information, click here: https://amcham.glueup.cn/my/events/43517
LOCATION:Beijing Eudora station 亿多瑞站 - 朝阳区芳园西路6号（丽都广场对面） China
BEGIN:VALARM
TRIGGER:-PT48H
REPEAT:4
DURATION:PT30M
ACTION:DISPLAY
END:VALARM
END:VEVENT
END:VCALENDAR