BEGIN:VCALENDAR
VERSION:2.0
PRODID:GlueUp
CALSCALE:GREGORIAN
BEGIN:VTIMEZONE
TZID:UTC
BEGIN:STANDARD
DTSTART:19700101T000000
TZOFFSETFROM:+0000
TZOFFSETTO:+0000
TZNAME:UTC
END:STANDARD
END:VTIMEZONE
BEGIN:VEVENT
TZ:+00
ORGANIZER;CN=Cynthia Zhai:MAILTO:czhai@amchamchina.org
UID:42472-1776722002@https://amcham.glueup.cn
DTSTAMP:20260420T215322Z
DTSTART:20231216T063000Z
DTEND:20231216T090000Z
SUMMARY:In-person | F&B Holiday Festivity - When Coffee Meets Cocktail
DESCRIPTION:In-person | F&B Holiday Festivity - When Coffee Meets Cocktail by AmCham China\n\nDec 16, 2023 (2:30 PM - 5:00 PM)(GMT+8)\n\nFor more information, click here: https://amcham.glueup.cn/my/events/42472
LOCATION:星巴克臻选（北京嘉里中心第二店） - 北京市朝阳区建国门外大街光华路1号嘉里中心商场一层111号2层204号 China
BEGIN:VALARM
TRIGGER:-PT48H
REPEAT:4
DURATION:PT30M
ACTION:DISPLAY
END:VALARM
END:VEVENT
END:VCALENDAR