BEGIN:VCALENDAR
VERSION:2.0
PRODID:GlueUp
CALSCALE:GREGORIAN
BEGIN:VTIMEZONE
TZID:UTC
BEGIN:STANDARD
DTSTART:19700101T000000
TZOFFSETFROM:+0000
TZOFFSETTO:+0000
TZNAME:UTC
END:STANDARD
END:VTIMEZONE
BEGIN:VEVENT
TZ:+00
ORGANIZER;CN=AmCham China:MAILTO:amcham@amchamchina.org
UID:43850-1776689432@https://amcham.glueup.cn
DTSTAMP:20260420T125032Z
DTSTART:20240516T020000Z
DTEND:20240516T033000Z
SUMMARY:[In-Person, EN] P+ Exclusive Briefing on China's Macroeconomic Situation
DESCRIPTION:[In-Person, EN] P+ Exclusive Briefing on China's Macroeconomic Situation by AmCham China\n\nMay 16, 2024 (10:00 AM - 11:30 AM)(GMT+8)\n\nFor more information, click here: https://amcham.glueup.cn/my/events/43850
LOCATION:5C, WeWork - Floor 5 - Gate 4 - Pacific Century Place - 2A Workers' Stadium North Road - 北京市朝阳区工体北路甲2号， 盈科中心4号门5层。 Beijing - Chaoyang District - China
BEGIN:VALARM
TRIGGER:-PT48H
REPEAT:4
DURATION:PT30M
ACTION:DISPLAY
END:VALARM
END:VEVENT
END:VCALENDAR