BEGIN:VCALENDAR
VERSION:2.0
PRODID:GlueUp
CALSCALE:GREGORIAN
BEGIN:VTIMEZONE
TZID:UTC
BEGIN:STANDARD
DTSTART:19700101T000000
TZOFFSETFROM:+0000
TZOFFSETTO:+0000
TZNAME:UTC
END:STANDARD
END:VTIMEZONE
BEGIN:VEVENT
TZ:+00
ORGANIZER;CN=Melody Wen:MAILTO:mwen@amchamchina.org
UID:44876-1776661230@https://amcham.glueup.cn
DTSTAMP:20260420T050030Z
DTSTART:20240911T071500Z
DTEND:20240911T093000Z
SUMMARY:[In-Person, EN] Future Education and Workforce Skills: Where Next?
DESCRIPTION:[In-Person, EN] Future Education and Workforce Skills: Where Next? by AmCham China\n\nSep 11, 2024 (3:15 PM - 5:30 PM)(GMT+8)\n\nFor more information, click here: https://amcham.glueup.cn/my/events/44876
LOCATION:5C WeWork, Pacific Century Place - Floor 5 - Gate 5 - Pacific Century Place - - 2A Workers' Stadium North Road - - Chaoyang District - Beijing - 100027 北京市朝阳区工体北路甲2号，盈科中心5号门5层。 邮编100027 Beijing - Chaoyang District - China
BEGIN:VALARM
TRIGGER:-PT48H
REPEAT:4
DURATION:PT30M
ACTION:DISPLAY
END:VALARM
END:VEVENT
END:VCALENDAR