BEGIN:VCALENDAR
VERSION:2.0
PRODID:GlueUp
CALSCALE:GREGORIAN
BEGIN:VTIMEZONE
TZID:UTC
BEGIN:STANDARD
DTSTART:19700101T000000
TZOFFSETFROM:+0000
TZOFFSETTO:+0000
TZNAME:UTC
END:STANDARD
END:VTIMEZONE
BEGIN:VEVENT
TZ:+00
ORGANIZER;CN=Mark Dreyer:MAILTO:mdreyer@amchamchina.org
UID:44100-1776684342@https://amcham.glueup.cn
DTSTAMP:20260420T112542Z
DTSTART:20240611T080000Z
DTEND:20240611T093000Z
SUMMARY:[In-Person, EN] Exclusive Briefing on China Sentiment-Tracking Research
DESCRIPTION:[In-Person, EN] Exclusive Briefing on China Sentiment-Tracking Research by AmCham China\n\nJun 11, 2024 (4:00 PM - 5:30 PM)(GMT+8)\n\nFor more information, click here: https://amcham.glueup.cn/my/events/44100
LOCATION:Washington Room, AmCham Office, Pacific Century Place - Floor 5 - Gate 5 - Pacific Century Place - - 2A Workers' Stadium North Road - - Chaoyang District - Beijing - 100027 北京市朝阳区工体北路甲2号，盈科中心5号门5层。 邮编100027 Beijing - Chaoyang District - China
BEGIN:VALARM
TRIGGER:-PT48H
REPEAT:4
DURATION:PT30M
ACTION:DISPLAY
END:VALARM
END:VEVENT
END:VCALENDAR