BEGIN:VCALENDAR
VERSION:2.0
PRODID:GlueUp
CALSCALE:GREGORIAN
BEGIN:VTIMEZONE
TZID:UTC
BEGIN:STANDARD
DTSTART:19700101T000000
TZOFFSETFROM:+0000
TZOFFSETTO:+0000
TZNAME:UTC
END:STANDARD
END:VTIMEZONE
BEGIN:VEVENT
TZ:+00
ORGANIZER;CN=Yin Yu:MAILTO:yyu@amchamchina.org
UID:43769-1776695757@https://amcham.glueup.cn
DTSTAMP:20260420T143557Z
DTSTART:20240507T060000Z
DTEND:20240507T070000Z
SUMMARY:[In-Person, EN] Dialogue with Everett Wakai: Challenges for SMEs in China
DESCRIPTION:[In-Person, EN] Dialogue with Everett Wakai: Challenges for SMEs in China by AmCham China\n\nMay 7, 2024 (2:00 PM - 3:00 PM)(GMT+8)\n\nFor more information, click here: https://amcham.glueup.cn/my/events/43769
LOCATION:AmCham China Washington Room - Floor 3 - Gate East One - Pacific Century Place - 2A Workers' Stadium North Road - 北京市朝阳区工体北路甲2号，盈科中心东一门3层。 Beijing - Chaoyang District - China
BEGIN:VALARM
TRIGGER:-PT48H
REPEAT:4
DURATION:PT30M
ACTION:DISPLAY
END:VALARM
END:VEVENT
END:VCALENDAR