BEGIN:VCALENDAR
VERSION:2.0
PRODID:GlueUp
CALSCALE:GREGORIAN
BEGIN:VTIMEZONE
TZID:UTC
BEGIN:STANDARD
DTSTART:19700101T000000
TZOFFSETFROM:+0000
TZOFFSETTO:+0000
TZNAME:UTC
END:STANDARD
END:VTIMEZONE
BEGIN:VEVENT
TZ:+00
ORGANIZER;CN=Serena Teng:MAILTO:steng@amchamchina.org
UID:45315-1776654823@https://amcham.glueup.cn
DTSTAMP:20260420T031343Z
DTSTART:20241010T073000Z
DTEND:20241010T083000Z
SUMMARY:[In Person, EN] Debrief on 5th EWG Meeting with US Embassy's Oliver Melton
DESCRIPTION:[In Person, EN] Debrief on 5th EWG Meeting with US Embassy's Oliver Melton by AmCham China\n\nOct 10, 2024 (3:30 PM - 4:30 PM)(GMT+8)\n\nFor more information, click here: https://amcham.glueup.cn/my/events/45315
LOCATION:Room 5C, WeWork, Pacific Century Place - Floor 5 - Gate 528 - Pacific Century Place - - 2A Workers' Stadium North Road - - Chaoyang District - Beijing - 北京市朝阳区工体北路甲2号，盈科中心528号门WeWork5层。 Beijing - Chaoyang District - China
BEGIN:VALARM
TRIGGER:-PT48H
REPEAT:4
DURATION:PT30M
ACTION:DISPLAY
END:VALARM
END:VEVENT
END:VCALENDAR