BEGIN:VCALENDAR
VERSION:2.0
PRODID:GlueUp
CALSCALE:GREGORIAN
BEGIN:VTIMEZONE
TZID:UTC
BEGIN:STANDARD
DTSTART:19700101T000000
TZOFFSETFROM:+0000
TZOFFSETTO:+0000
TZNAME:UTC
END:STANDARD
END:VTIMEZONE
BEGIN:VEVENT
TZ:+00
ORGANIZER;CN=Lucinda Liu:MAILTO:lliu@amchamchina.org
UID:42983-1776702653@https://amcham.glueup.cn
DTSTAMP:20260420T163053Z
DTSTART:20240326T053000Z
DTEND:20240326T090000Z
SUMMARY:In-Person (EN/CN) | International Forum on Clean Energy Cooperation
DESCRIPTION:In-Person (EN/CN) | International Forum on Clean Energy Cooperation by AmCham China\n\nMar 26, 2024 (1:30 PM - 5:00 PM)(GMT+8)\n\nFor more information, click here: https://amcham.glueup.cn/my/events/42983
LOCATION:Grand Skylight Hotel Royal Beijing - Beijing - China
BEGIN:VALARM
TRIGGER:-PT48H
REPEAT:4
DURATION:PT30M
ACTION:DISPLAY
END:VALARM
END:VEVENT
END:VCALENDAR