BEGIN:VCALENDAR
VERSION:2.0
PRODID:GlueUp
CALSCALE:GREGORIAN
BEGIN:VTIMEZONE
TZID:UTC
BEGIN:STANDARD
DTSTART:19700101T000000
TZOFFSETFROM:+0000
TZOFFSETTO:+0000
TZNAME:UTC
END:STANDARD
END:VTIMEZONE
BEGIN:VEVENT
TZ:+00
ORGANIZER;CN=AmCham China:MAILTO:amcham@amchamchina.org
UID:43653-1776702618@https://amcham.glueup.cn
DTSTAMP:20260420T163018Z
DTSTART:20240426T060000Z
DTEND:20240426T090000Z
SUMMARY:[In-Person, CN] Happy Paws Salon一起打卡!“毛孩子”沙龙首秀登场啦!
DESCRIPTION:[In-Person, CN] Happy Paws Salon一起打卡!“毛孩子”沙龙首秀登场啦! by AmCham China\n\nApr 26, 2024 (2:00 PM - 5:00 PM)(GMT+8)\n\nFor more information, click here: https://amcham.glueup.cn/my/events/43653
LOCATION:令心ITEC数字共创实践中心路演厅 - 北京市朝阳区西大望路甲12号国家广告产业园区A座2层 Beijing - China
BEGIN:VALARM
TRIGGER:-PT48H
REPEAT:4
DURATION:PT30M
ACTION:DISPLAY
END:VALARM
END:VEVENT
END:VCALENDAR